BEGIN:VCALENDAR
VERSION:2.0
PRODID:-//Williamstown CYMS FC - ECPv5.0.2//NONSGML v1.0//EN
CALSCALE:GREGORIAN
METHOD:PUBLISH
X-WR-CALNAME:Williamstown CYMS FC
X-ORIGINAL-URL:https://williamstowncyms.com.au
X-WR-CALDESC:Events for Williamstown CYMS FC
BEGIN:VTIMEZONE
TZID:Australia/Melbourne
BEGIN:STANDARD
TZOFFSETFROM:+1100
TZOFFSETTO:+1000
TZNAME:AEST
DTSTART:20200404T160000
END:STANDARD
BEGIN:DAYLIGHT
TZOFFSETFROM:+1000
TZOFFSETTO:+1100
TZNAME:AEDT
DTSTART:20201003T160000
END:DAYLIGHT
END:VTIMEZONE
BEGIN:VEVENT
DTSTART;TZID=Australia/Melbourne:20200418T113000
DTEND;TZID=Australia/Melbourne:20200418T180000
DTSTAMP:20200301T174408
CREATED:20200208T073700Z
LAST-MODIFIED:20200219T021408Z
UID:3762-1587209400-1587232800@williamstowncyms.com.au
SUMMARY:2020 Women of CY's Luncheon
DESCRIPTION:\nWilliamstown CYMS Football Club is proud to announce the return of our annual ‘Women of CYS Luncheon’. This event is founded on celebrating the role of women in sport and the contribution that women make to the Williamstown CYMS Football Club both on field and off. \nThis year we are very lucky to have the ever inspirational\, Emma Race as our key speaker for the day. \nIn addition\, we hope this year’s luncheon will create another platform for promoting and empowering girls and women in our community with equal opportunity to give sports a go\, regardless of their ability and opportunity to pursue their sporting desires and ambitions in an environment where they feel comfortable and confident. \nNot only do we want to support the players of CYMS\, however we want to thank and support the roles and opportunities of women off the field by fostering networks and friendships. \nPlease come and join us for a day of socializing\, canapés\, a sit down lunch\, guest speaker Emma Race and fundraiser raffles on Saturday April 18th at Seaview in Williamstown. All proceeds that we make from the event will go towards helping regional sporting clubs that have been affected by the recent bushfires. \nWe hope to see you all there! \n\n
URL:https://williamstowncyms.com.au/event/2020-women-of-cys-luncheon/
LOCATION:Seaview Events Centre\, Downer Oval\, 71 Morris Street\, Williamstown\, VIC\, 3016
ATTACH;FMTTYPE=image/jpeg:https://williamstowncyms.com.au/wp-content/uploads/2020/02/Women-of-CYs-Day-2020.jpg
END:VEVENT
END:VCALENDAR